BEGIN:VCALENDAR
VERSION:2.0
PRODID:-//The Store House - ECPv6.15.20//NONSGML v1.0//EN
CALSCALE:GREGORIAN
METHOD:PUBLISH
X-WR-CALNAME:The Store House
X-ORIGINAL-URL:https://thestorehouseng.org
X-WR-CALDESC:Events for The Store House
REFRESH-INTERVAL;VALUE=DURATION:PT1H
X-Robots-Tag:noindex
X-PUBLISHED-TTL:PT1H
BEGIN:VTIMEZONE
TZID:Europe/Paris
BEGIN:DAYLIGHT
TZOFFSETFROM:+0100
TZOFFSETTO:+0200
TZNAME:CEST
DTSTART:20250330T010000
END:DAYLIGHT
BEGIN:STANDARD
TZOFFSETFROM:+0200
TZOFFSETTO:+0100
TZNAME:CET
DTSTART:20251026T010000
END:STANDARD
BEGIN:DAYLIGHT
TZOFFSETFROM:+0100
TZOFFSETTO:+0200
TZNAME:CEST
DTSTART:20260329T010000
END:DAYLIGHT
BEGIN:STANDARD
TZOFFSETFROM:+0200
TZOFFSETTO:+0100
TZNAME:CET
DTSTART:20261025T010000
END:STANDARD
BEGIN:DAYLIGHT
TZOFFSETFROM:+0100
TZOFFSETTO:+0200
TZNAME:CEST
DTSTART:20270328T010000
END:DAYLIGHT
BEGIN:STANDARD
TZOFFSETFROM:+0200
TZOFFSETTO:+0100
TZNAME:CET
DTSTART:20271031T010000
END:STANDARD
END:VTIMEZONE
BEGIN:VEVENT
DTSTART;TZID=Europe/Paris:20260202T070000
DTEND;TZID=Europe/Paris:20260202T080000
DTSTAMP:20260419T144419
CREATED:20260222T151834Z
LAST-MODIFIED:20260222T151834Z
UID:25098-1770015600-1770019200@thestorehouseng.org
SUMMARY:Corporate Prayers
DESCRIPTION:
URL:https://thestorehouseng.org/event/corporate-prayers-2/
LOCATION:Online (via Zoom)
END:VEVENT
BEGIN:VEVENT
DTSTART;TZID=Europe/Paris:20260209T070000
DTEND;TZID=Europe/Paris:20260209T080000
DTSTAMP:20260419T144419
CREATED:20260222T151935Z
LAST-MODIFIED:20260222T151935Z
UID:25100-1770620400-1770624000@thestorehouseng.org
SUMMARY:Corporate Prayers
DESCRIPTION:
URL:https://thestorehouseng.org/event/corporate-prayers-3/
LOCATION:Online (via Zoom)
END:VEVENT
BEGIN:VEVENT
DTSTART;TZID=Europe/Paris:20260216T070000
DTEND;TZID=Europe/Paris:20260216T080000
DTSTAMP:20260419T144419
CREATED:20260222T152007Z
LAST-MODIFIED:20260222T152007Z
UID:25103-1771225200-1771228800@thestorehouseng.org
SUMMARY:Corporate Prayers
DESCRIPTION:
URL:https://thestorehouseng.org/event/corporate-prayers-4/
LOCATION:Online (via Zoom)
END:VEVENT
BEGIN:VEVENT
DTSTART;TZID=Europe/Paris:20260218T193000
DTEND;TZID=Europe/Paris:20260218T213000
DTSTAMP:20260419T144419
CREATED:20260222T152212Z
LAST-MODIFIED:20260222T153144Z
UID:25109-1771443000-1771450200@thestorehouseng.org
SUMMARY:Midweek Service
DESCRIPTION:
URL:https://thestorehouseng.org/event/midweek-service-3/
LOCATION:The Sanctuary\, The Sanctuary by THE STOREHOUSE - 6 Abila Abiodun Oniru Road\, Victoria Island\, Lagos\, 106104\, Nigeria
END:VEVENT
BEGIN:VEVENT
DTSTART;TZID=Europe/Paris:20260222T110000
DTEND;TZID=Europe/Paris:20260222T130000
DTSTAMP:20260419T144419
CREATED:20260222T151437Z
LAST-MODIFIED:20260222T153122Z
UID:25091-1771758000-1771765200@thestorehouseng.org
SUMMARY:Heal Our Land
DESCRIPTION:
URL:https://thestorehouseng.org/event/hol-2202/
LOCATION:The Sanctuary\, The Sanctuary by THE STOREHOUSE - 6 Abila Abiodun Oniru Road\, Victoria Island\, Lagos\, 106104\, Nigeria
END:VEVENT
BEGIN:VEVENT
DTSTART;TZID=Europe/Paris:20260223T070000
DTEND;TZID=Europe/Paris:20260223T080000
DTSTAMP:20260419T144419
CREATED:20260222T151736Z
LAST-MODIFIED:20260222T152649Z
UID:25095-1771830000-1771833600@thestorehouseng.org
SUMMARY:Corporate Prayers
DESCRIPTION:
URL:https://thestorehouseng.org/event/corporate-prayers/
LOCATION:Online (via Zoom)
END:VEVENT
BEGIN:VEVENT
DTSTART;TZID=Europe/Paris:20260225T193000
DTEND;TZID=Europe/Paris:20260225T213000
DTSTAMP:20260419T144419
CREATED:20260222T152238Z
LAST-MODIFIED:20260222T152744Z
UID:25111-1772047800-1772055000@thestorehouseng.org
SUMMARY:Midweek Service
DESCRIPTION:
URL:https://thestorehouseng.org/event/midweek-service-4/
LOCATION:The Sanctuary\, The Sanctuary by THE STOREHOUSE - 6 Abila Abiodun Oniru Road\, Victoria Island\, Lagos\, 106104\, Nigeria
END:VEVENT
BEGIN:VEVENT
DTSTART;TZID=Europe/Paris:20260227T070000
DTEND;TZID=Europe/Paris:20260227T080000
DTSTAMP:20260419T144419
CREATED:20260222T153319Z
LAST-MODIFIED:20260222T153319Z
UID:25115-1772175600-1772179200@thestorehouseng.org
SUMMARY:Corporate Prayers
DESCRIPTION:
URL:https://thestorehouseng.org/event/corporate-prayers-5/
LOCATION:Online (via Zoom)
END:VEVENT
BEGIN:VEVENT
DTSTART;TZID=Europe/Paris:20260228T080000
DTEND;TZID=Europe/Paris:20260228T210000
DTSTAMP:20260419T144419
CREATED:20260222T153401Z
LAST-MODIFIED:20260224T062112Z
UID:25117-1772265600-1772312400@thestorehouseng.org
SUMMARY:Unison Weekend
DESCRIPTION:
URL:https://thestorehouseng.org/event/unison-weekend/
LOCATION:Various Unison Centers
END:VEVENT
END:VCALENDAR