BEGIN:VCALENDAR
VERSION:2.0
PRODID:-//The Store House - ECPv6.15.20//NONSGML v1.0//EN
CALSCALE:GREGORIAN
METHOD:PUBLISH
X-WR-CALNAME:The Store House
X-ORIGINAL-URL:https://thestorehouseng.org
X-WR-CALDESC:Events for The Store House
REFRESH-INTERVAL;VALUE=DURATION:PT1H
X-Robots-Tag:noindex
X-PUBLISHED-TTL:PT1H
BEGIN:VTIMEZONE
TZID:Europe/Paris
BEGIN:DAYLIGHT
TZOFFSETFROM:+0100
TZOFFSETTO:+0200
TZNAME:CEST
DTSTART:20250330T010000
END:DAYLIGHT
BEGIN:STANDARD
TZOFFSETFROM:+0200
TZOFFSETTO:+0100
TZNAME:CET
DTSTART:20251026T010000
END:STANDARD
BEGIN:DAYLIGHT
TZOFFSETFROM:+0100
TZOFFSETTO:+0200
TZNAME:CEST
DTSTART:20260329T010000
END:DAYLIGHT
BEGIN:STANDARD
TZOFFSETFROM:+0200
TZOFFSETTO:+0100
TZNAME:CET
DTSTART:20261025T010000
END:STANDARD
BEGIN:DAYLIGHT
TZOFFSETFROM:+0100
TZOFFSETTO:+0200
TZNAME:CEST
DTSTART:20270328T010000
END:DAYLIGHT
BEGIN:STANDARD
TZOFFSETFROM:+0200
TZOFFSETTO:+0100
TZNAME:CET
DTSTART:20271031T010000
END:STANDARD
END:VTIMEZONE
BEGIN:VEVENT
DTSTART;TZID=Europe/Paris:20260315T100000
DTEND;TZID=Europe/Paris:20260315T120000
DTSTAMP:20260419T144420
CREATED:20260301T113452Z
LAST-MODIFIED:20260315T092612Z
UID:25176-1773568800-1773576000@thestorehouseng.org
SUMMARY:Spontaneous Worship
DESCRIPTION:
URL:https://thestorehouseng.org/event/spontaneous-worship-7/
LOCATION:The Sanctuary\, The Sanctuary by THE STOREHOUSE - 6 Abila Abiodun Oniru Road\, Victoria Island\, Lagos\, 106104\, Nigeria
END:VEVENT
END:VCALENDAR