BEGIN:VCALENDAR
VERSION:2.0
PRODID:-//The Store House - ECPv6.15.20//NONSGML v1.0//EN
CALSCALE:GREGORIAN
METHOD:PUBLISH
X-WR-CALNAME:The Store House
X-ORIGINAL-URL:https://thestorehouseng.org
X-WR-CALDESC:Events for The Store House
REFRESH-INTERVAL;VALUE=DURATION:PT1H
X-Robots-Tag:noindex
X-PUBLISHED-TTL:PT1H
BEGIN:VTIMEZONE
TZID:Europe/Paris
BEGIN:DAYLIGHT
TZOFFSETFROM:+0100
TZOFFSETTO:+0200
TZNAME:CEST
DTSTART:20250330T010000
END:DAYLIGHT
BEGIN:STANDARD
TZOFFSETFROM:+0200
TZOFFSETTO:+0100
TZNAME:CET
DTSTART:20251026T010000
END:STANDARD
BEGIN:DAYLIGHT
TZOFFSETFROM:+0100
TZOFFSETTO:+0200
TZNAME:CEST
DTSTART:20260329T010000
END:DAYLIGHT
BEGIN:STANDARD
TZOFFSETFROM:+0200
TZOFFSETTO:+0100
TZNAME:CET
DTSTART:20261025T010000
END:STANDARD
BEGIN:DAYLIGHT
TZOFFSETFROM:+0100
TZOFFSETTO:+0200
TZNAME:CEST
DTSTART:20270328T010000
END:DAYLIGHT
BEGIN:STANDARD
TZOFFSETFROM:+0200
TZOFFSETTO:+0100
TZNAME:CET
DTSTART:20271031T010000
END:STANDARD
END:VTIMEZONE
BEGIN:VEVENT
DTSTART;TZID=Europe/Paris:20260314T110000
DTEND;TZID=Europe/Paris:20260314T140000
DTSTAMP:20260419T144245
CREATED:20260301T114709Z
LAST-MODIFIED:20260315T103256Z
UID:25188-1773486000-1773496800@thestorehouseng.org
SUMMARY:At His feet
DESCRIPTION:Hi ladies! ❤️ \nWe would loveeeee to invite you to our next At His Feet gathering. It’s a gathering we do quarterly with the women at The Storehouse. It’s a very intimate space where we pause and just sit at the feet of Jesus together for a time of honest conversation\, reflection and prayer. \nThere will be food\, snacks and drinks. Come as you are and invite a friend. \nWe can’t wait to have you ❤️✨
URL:https://thestorehouseng.org/event/at-his-feet/
END:VEVENT
END:VCALENDAR